BEGIN:VCALENDAR
VERSION:2.0
PRODID:-//NK Araştırma - ECPv6.15.17.1//NONSGML v1.0//EN
CALSCALE:GREGORIAN
METHOD:PUBLISH
X-WR-CALNAME:NK Araştırma
X-ORIGINAL-URL:https://www.nkanalitik.com
X-WR-CALDESC:NK Araştırma için etkinlikler
REFRESH-INTERVAL;VALUE=DURATION:PT1H
X-Robots-Tag:noindex
X-PUBLISHED-TTL:PT1H
BEGIN:VTIMEZONE
TZID:Europe/Moscow
BEGIN:STANDARD
TZOFFSETFROM:+0300
TZOFFSETTO:+0300
TZNAME:MSK
DTSTART:20240101T000000
END:STANDARD
END:VTIMEZONE
BEGIN:VEVENT
DTSTART;TZID=Europe/Moscow:20251207T203000
DTEND;TZID=Europe/Moscow:20251207T213000
DTSTAMP:20260422T120056
CREATED:20251007T144851Z
LAST-MODIFIED:20251205T155115Z
UID:8356-1765139400-1765143000@www.nkanalitik.com
SUMMARY:Derinlemesine Görüşme: Anlamın Katmanlarını Açmak
DESCRIPTION:Derinlemesine görüşme\, katılımcının dünyasını kendi sözcükleriyle anlamanın en etkili yollarından biridir. Bu oturumda görüşme sürecinin planlanması\, soru tasarımı\, iletişim biçimleri ve etik ilkeler üzerine odaklanacağız. \nKatılımcılar\, iyi bir görüşmenin ardındaki psikolojik ve etkileşimsel dinamikleri öğrenecek\, veri toplama sürecinde duyarlılıkla yaklaşmanın araştırma kalitesini nasıl artırdığını fark edeceklerdir. \nHEMEN KAYDOL! \n\n\n	Büyük Dil Modelleri Nitel Araştırmada Ne Vadediyor?5 üzerinden 5.00 oy aldı\n	₺0\,00
URL:https://www.nkanalitik.com/etkinlik_detay/derinlemesine-gorusme-anlamin-katmanlarini-acmak/
LOCATION:Çevrimiçi
CATEGORIES:Nitel Analiz Eğitimi
ATTACH;FMTTYPE=image/png:https://www.nkanalitik.com/wp-content/uploads/2025/10/8-Derinlemesine-Gorusme-Anlamin-Katmanlarini-Acmak.png
END:VEVENT
END:VCALENDAR