BEGIN:VCALENDAR
VERSION:2.0
PRODID:-//NK Araştırma - ECPv6.15.17.1//NONSGML v1.0//EN
CALSCALE:GREGORIAN
METHOD:PUBLISH
X-ORIGINAL-URL:https://www.nkanalitik.com
X-WR-CALDESC:NK Araştırma için etkinlikler
REFRESH-INTERVAL;VALUE=DURATION:PT1H
X-Robots-Tag:noindex
X-PUBLISHED-TTL:PT1H
BEGIN:VTIMEZONE
TZID:Europe/Moscow
BEGIN:STANDARD
TZOFFSETFROM:+0300
TZOFFSETTO:+0300
TZNAME:MSK
DTSTART:20250101T000000
END:STANDARD
END:VTIMEZONE
BEGIN:VEVENT
DTSTART;TZID=Europe/Moscow:20260226T210000
DTEND;TZID=Europe/Moscow:20260226T220000
DTSTAMP:20260419T142531
CREATED:20260218T063424Z
LAST-MODIFIED:20260218T120154Z
UID:10202-1772139600-1772143200@www.nkanalitik.com
SUMMARY:Hipotez Nasıl Oluşturulur?
DESCRIPTION:Hipotiz Nasıl Yazılır? Ücretsiz Webinar Serisi – Dr. Betül Kurnaz\nAkademik bir çalışmanın temel taşı olan hipotez kurma sürecinde zorlanıyor musunuz? Araştırma sorusu ile hipotez arasındaki o ince çizgiyi netleştirmek ve bilimsel metodolojide sağlam adımlarla ilerlemek için bu webinar tam size göre! \nNK Araştırma tarafından düzenlenen bu özel eğitimde\, Dr. Betül Kurnaz rehberliğinde bir hipotezin nasıl oluşturulacağını tüm detaylarıyla ele alıyoruz. \nWebinar İçeriğinde Neler Var?\n\nAraştırma Sorusu vs. Hipotez: İki kavram arasındaki temel farklar nelerdir?\nHipotez Oluşturma Süreci: Mantıklı ve test edilebilir bir hipotez nasıl oluşturulur?\nAkademik Yazım İpuçları: Bilimsel çalışmalarda sık yapılan hatalar ve çözüm yolları.\n\nEtkinlik Bilgileri\n\nTarih: 26 Şubat 2026\nSaat: 21:00\nYer: Çevrimiçi (Online)\nKatılım: Ücretsiz\n\nÖnemli Not: Bağlantı linki\, kayıt oluşturduktan sonra e-posta adresinize iletilecektir. Lütfen spam (gereksiz) klasörünüzü kontrol etmeyi unutmayın. \nHEMEN KAYDOL! \n\n\n	Stoklar tükendiHipotez Nasıl Oluşturulur?5 üzerinden 4.99 oy aldı\n	₺0\,00
URL:https://www.nkanalitik.com/etkinlik_detay/hipotez-nasil-olusturulur/
LOCATION:Çevrimiçi
CATEGORIES:Nicel Analiz Eğitimi
ATTACH;FMTTYPE=image/png:https://www.nkanalitik.com/wp-content/uploads/2026/02/haftalik-gorseller-1.png
END:VEVENT
END:VCALENDAR