BEGIN:VCALENDAR
VERSION:2.0
PRODID:-//NK Araştırma - ECPv6.15.17.1//NONSGML v1.0//EN
CALSCALE:GREGORIAN
METHOD:PUBLISH
X-WR-CALNAME:NK Araştırma
X-ORIGINAL-URL:https://www.nkanalitik.com
X-WR-CALDESC:NK Araştırma için etkinlikler
REFRESH-INTERVAL;VALUE=DURATION:PT1H
X-Robots-Tag:noindex
X-PUBLISHED-TTL:PT1H
BEGIN:VTIMEZONE
TZID:Europe/Moscow
BEGIN:STANDARD
TZOFFSETFROM:+0300
TZOFFSETTO:+0300
TZNAME:MSK
DTSTART:20250101T000000
END:STANDARD
END:VTIMEZONE
BEGIN:VEVENT
DTSTART;TZID=Europe/Moscow:20260225T203000
DTEND;TZID=Europe/Moscow:20260225T223000
DTSTAMP:20260420T103333
CREATED:20260223T080535Z
LAST-MODIFIED:20260224T092533Z
UID:10266-1772051400-1772058600@www.nkanalitik.com
SUMMARY:Quali ile Nitel Veri Analiz Eğitimi
DESCRIPTION:Araştırmalarınızda geleneksel yöntemleri geride bırakıp yeni nesil araçlarla tanışmanın tam zamanı! Nitel veri analizi süreçlerinizi hızlandırmak\, verilerinizi daha derinlemesine ve kolayca analiz etmek için sizi “Quali ile Nitel Veri Analiz Eğitimi” webinarımıza davet ediyoruz. \nBu ücretsiz webinarda\, Quali yazılımının sunduğu yenilikçi arayüzü ve güçlü analiz araçlarını uygulamalı olarak keşfedeceksiniz. \nKatılımcılara Özel Ücretsiz Kullanım Hakkı Fırsatı! \nWebinarımıza katılan herkese\, araştırmalarında kullanabilmeleri için QUALI Temel Kullanım Hakkı tanımlanacaktır. Sınırlı kontenjanla gerçekleştirilecek bu özel etkinliği kaçırmayın. \nBu Webinarda Neler Öğreneceksiniz? \n\nAraştırma verilerini (metin\, tablo vb.) sisteme hızlıca aktarma.\nKod sistemi oluşturma\, düzenleme ve otomatik kodlama kolaylıkları.\nOtomatik Duygu Analizi yapma.\nKod Matrisi\, Kod Haritası ve Zaman Serisi gibi gelişmiş görselleştirme araçlarıyla veriyi yorumlama.\n\nKontenjanımız sınırlıdır. Nitel veri analizi becerilerinizi bir üst seviyeye taşımak ve ücretsiz Quali kullanım hakkına sahip olmak için yerinizi hemen ayırtın! \nQUALI yazılımını bilgisayarınıza indirmek ve kurmak için https://academetrica.com/ web sayfasını ziyaret ediniz. \nHEMEN KAYDOL! \n\n\n	Büyük Dil Modelleri Nitel Araştırmada Ne Vadediyor?5 üzerinden 5.00 oy aldı\n	₺0\,00
URL:https://www.nkanalitik.com/etkinlik_detay/quali-ile-nitel-veri-analiz-egitimi/
LOCATION:Çevrimiçi
CATEGORIES:Nitel Analiz Eğitimi
ATTACH;FMTTYPE=image/png:https://www.nkanalitik.com/wp-content/uploads/2024/09/QUALI-NITEL-VERI-ANALIZ-EGITIMI1.png
END:VEVENT
END:VCALENDAR