BEGIN:VCALENDAR
VERSION:2.0
PRODID:-//NK Araştırma - ECPv6.15.17.1//NONSGML v1.0//EN
CALSCALE:GREGORIAN
METHOD:PUBLISH
X-ORIGINAL-URL:https://www.nkanalitik.com
X-WR-CALDESC:NK Araştırma için etkinlikler
REFRESH-INTERVAL;VALUE=DURATION:PT1H
X-Robots-Tag:noindex
X-PUBLISHED-TTL:PT1H
BEGIN:VTIMEZONE
TZID:Europe/Moscow
BEGIN:STANDARD
TZOFFSETFROM:+0300
TZOFFSETTO:+0300
TZNAME:MSK
DTSTART:20240101T000000
END:STANDARD
END:VTIMEZONE
BEGIN:VEVENT
DTSTART;TZID=Europe/Moscow:20251211T210000
DTEND;TZID=Europe/Moscow:20251211T220000
DTSTAMP:20260420T080241
CREATED:20251205T200259Z
LAST-MODIFIED:20251205T200702Z
UID:9880-1765486800-1765490400@www.nkanalitik.com
SUMMARY:Mplus ile Doğrulayıcı Faktör Analizi
DESCRIPTION:Mplus ile doğrulayıcı faktör analizi yaparak sonuçlarının nasıl yorumlanacağını ve uygulamalı olarak göreceğimiz bu webinarda doğrulayıcı faktör analiziyle ilgili çok sayıda temel kavram ve ilkeyi de konuşacağız. Webinardan önce bilgisayarlarınıza Mplus yüklemeniz\, uygulamaya katılım açısından etkili olacaktır. \n  \nHEMEN KAYDOL! \n\n\n	Stoklar tükendiHipotez Nasıl Oluşturulur?5 üzerinden 4.99 oy aldı\n	₺0\,00
URL:https://www.nkanalitik.com/etkinlik_detay/mplus-ile-dogrulayici-faktor-analizi-yapiyoruz/
LOCATION:Çevrimiçi
CATEGORIES:Nicel Analiz Eğitimi
ATTACH;FMTTYPE=image/png:https://www.nkanalitik.com/wp-content/uploads/2025/12/haftalik-gorseller.png
END:VEVENT
END:VCALENDAR