BEGIN:VCALENDAR
VERSION:2.0
PRODID:-//NK Araştırma - ECPv6.15.17.1//NONSGML v1.0//EN
CALSCALE:GREGORIAN
METHOD:PUBLISH
X-ORIGINAL-URL:https://www.nkanalitik.com
X-WR-CALDESC:NK Araştırma için etkinlikler
REFRESH-INTERVAL;VALUE=DURATION:PT1H
X-Robots-Tag:noindex
X-PUBLISHED-TTL:PT1H
BEGIN:VTIMEZONE
TZID:Europe/Moscow
BEGIN:STANDARD
TZOFFSETFROM:+0300
TZOFFSETTO:+0300
TZNAME:MSK
DTSTART:20230101T000000
END:STANDARD
END:VTIMEZONE
BEGIN:VEVENT
DTSTART;TZID=Europe/Moscow:20241112T200000
DTEND;TZID=Europe/Moscow:20241112T220000
DTSTAMP:20260421T171957
CREATED:20241106T161414Z
LAST-MODIFIED:20241106T161438Z
UID:4724-1731441600-1731448800@www.nkanalitik.com
SUMMARY:Nitel Araştırmalarda Sosyal Etki Araştırması Yapmak (ÜCRETSİZDİR)
DESCRIPTION:Bu seminerde\, sosyal etkiyi nasıl değerlendirebileceğiniz\, hangi nitel yöntemleri ve veri toplama tekniklerini kullanabileceğiniz gibi kritik konuları ele alacağız. Nitel araştırma teknikleri\, veri toplama ve analiz süreçleri ve etik hususlar üzerine derinlemesine bilgi paylaşımı yapılacak. \nSeminerimizde\, yayınlanmış çalışmalar ile yöntemin nasıl uygulandığını göstermeyi ve pratik çıkarımlar ile katılımcıları desteklemeyi amaçlıyoruz. Toplumsal dönüşüm ve değişim süreçlerinde sosyal etki araştırmasının yeri ve önemi üzerine bilgi edinmek isteyen herkesi bu etkinliğe bekliyoruz. \nNitel araştırmalarınızda derinlik arıyorsanız\, bu etkinliği kaçırmayın! \n10 yılı aşkın eğitim ve araştırma deneyime sahip eğitmenimiz Dr. Zeynep KURNAZ’ın özgeçmişini buradan inceleyebilirsiniz! \nEtkinlik ÇEVRİMİÇİ gerçekleştirilecektir. Kaydolduğunuz eposta adresine Microsoft Teams linki gönderilecektir. Etkinliğe katılabilmek için Microsoft Teams uygulamasını daha önce bilgisayarınıza kurmanız gerekmektedir. Etkinlik saatinden 5 dakika öncesinde size gönderilen link üzerinden etkinliğe katılmanız gerekmektedir. \nHEMEN KAYDOL! \n\n\n	Büyük Dil Modelleri Nitel Araştırmada Ne Vadediyor?5 üzerinden 5.00 oy aldı\n	₺0\,00
URL:https://www.nkanalitik.com/etkinlik_detay/nitel-arastirmalarda-sosyal-etki-arastirmasi-yapmak/
LOCATION:Çevrimiçi
CATEGORIES:Nitel Analiz Eğitimi
ATTACH;FMTTYPE=image/png:https://www.nkanalitik.com/wp-content/uploads/2024/09/Afis1.png
END:VEVENT
END:VCALENDAR