BEGIN:VCALENDAR
VERSION:2.0
PRODID:-//NK Araştırma - ECPv6.15.17.1//NONSGML v1.0//EN
CALSCALE:GREGORIAN
METHOD:PUBLISH
X-ORIGINAL-URL:https://www.nkanalitik.com
X-WR-CALDESC:NK Araştırma için etkinlikler
REFRESH-INTERVAL;VALUE=DURATION:PT1H
X-Robots-Tag:noindex
X-PUBLISHED-TTL:PT1H
BEGIN:VTIMEZONE
TZID:Europe/Moscow
BEGIN:STANDARD
TZOFFSETFROM:+0300
TZOFFSETTO:+0300
TZNAME:MSK
DTSTART:20240101T000000
END:STANDARD
END:VTIMEZONE
BEGIN:VEVENT
DTSTART;TZID=Europe/Moscow:20251002T210000
DTEND;TZID=Europe/Moscow:20251002T220000
DTSTAMP:20260424T171550
CREATED:20250924T045816Z
LAST-MODIFIED:20250924T072114Z
UID:7931-1759438800-1759442400@www.nkanalitik.com
SUMMARY:SPSS ile Değişkenler Arasındaki İlişkileri İnceliyoruz
DESCRIPTION:Araştırmalarınızda değişkenler arasındaki ilişkileri doğru analiz etmek\, güvenilir sonuçlar elde etmenin temel adımlarından biridir. Bu oturumda SPSS üzerinden korelasyon analizi ve temel regresyon mantığı üzerine konuşacağız. Örnek veri setleriyle uygulama yaparak analiz sonuçlarını nasıl yorumlayacağımızı tartışacağız. \nNeden Katılmalısınız? \n\nKendi verilerinizde değişkenler arasındaki ilişkileri doğru analiz etmeyi öğrenirsiniz.\nKorelasyon ve regresyon arasındaki farkı ve hangi durumda hangisini kullanacağınızı kavrarsınız.\nUygulamalı örneklerle öğrendiklerinizi hemen pratiğe dökebilirsiniz.\n\n  \nHEMEN KAYDOL! \n\n\n	Stoklar tükendiHipotez Nasıl Oluşturulur?5 üzerinden 4.99 oy aldı\n	₺0\,00
URL:https://www.nkanalitik.com/etkinlik_detay/spss-ile-degiskenler-arasindaki-iliskileri-inceliyoruz/
LOCATION:Çevrimiçi
CATEGORIES:Nicel Analiz Eğitimi
ATTACH;FMTTYPE=image/png:https://www.nkanalitik.com/wp-content/uploads/2025/09/haftalik-gorseller.png
END:VEVENT
END:VCALENDAR