BEGIN:VCALENDAR
VERSION:2.0
PRODID:-//NK Araştırma - ECPv6.15.17.1//NONSGML v1.0//EN
CALSCALE:GREGORIAN
METHOD:PUBLISH
X-ORIGINAL-URL:https://www.nkanalitik.com
X-WR-CALDESC:NK Araştırma için etkinlikler
REFRESH-INTERVAL;VALUE=DURATION:PT1H
X-Robots-Tag:noindex
X-PUBLISHED-TTL:PT1H
BEGIN:VTIMEZONE
TZID:Europe/Moscow
BEGIN:STANDARD
TZOFFSETFROM:+0300
TZOFFSETTO:+0300
TZNAME:MSK
DTSTART:20240101T000000
END:STANDARD
END:VTIMEZONE
BEGIN:VEVENT
DTSTART;TZID=Europe/Moscow:20251104T203000
DTEND;TZID=Europe/Moscow:20251104T213000
DTSTAMP:20260424T171706
CREATED:20251007T151835Z
LAST-MODIFIED:20251030T054212Z
UID:8379-1762288200-1762291800@www.nkanalitik.com
SUMMARY:Kod Kılavuzu Oluşturma: Düzenli ve Tutarlı Kodlamanın Anahtarı
DESCRIPTION:Nitel analizde güçlü bir kod kılavuzu\, araştırmanın omurgasını oluşturur. Kod kılavuzu yalnızca kodların listesi değil; her bir kavramın anlam sınırlarını\, kullanım bağlamını ve araştırmadaki işlevini tanımlayan bir rehberdir. Bu oturumda tutarlılığın\, analitik derinliğin ve denetim izinin (audit trail) nasıl sağlanacağına odaklanacağız. \nOturum süresince iyi yapılandırılmış bir kod kılavuzunun nitel araştırmalarda güvenilirliği nasıl güçlendirdiği\, kod revizyonlarının nasıl planlandığı ve araştırma ekibi içinde ortak bir dilin nasıl kurulduğu örneklerle ele alınacaktır. Katılımcılar\, kılavuz oluşturmanın yalnızca düzen değil\, düşünsel berraklık kazandırdığını göreceklerdir. \nBu oturumda Quali üzerinde kod kılavuzu oluşturma uygulaması yapılacaktır. Katılımcılar\, veriden türetilen kodları bir kılavuzda nasıl sistematikleştireceklerini\, tanımlarını nasıl yazacaklarını ve araştırma boyunca nasıl güncel tutacaklarını adım adım deneyimleyeceklerdir. Quali yazılımını bilgisayarınıza indirmek ve kurmak için https://www.veriveren.net/ web sayfasını ziyaret ediniz. \nHEMEN KAYDOL!
URL:https://www.nkanalitik.com/etkinlik_detay/kod-kilavuzu-olusturma-duzenli-ve-tutarli-kodlamanin-anahtari/
LOCATION:Çevrimiçi
CATEGORIES:Nitel Analiz Eğitimi
ATTACH;FMTTYPE=image/png:https://www.nkanalitik.com/wp-content/uploads/2025/10/13-Kod-Kilavuzu-Olusturma-Duzenli-ve-Tutarli-Kodlamanin-Anahtari.png
END:VEVENT
END:VCALENDAR