BEGIN:VCALENDAR
VERSION:2.0
PRODID:-//NK Araştırma - ECPv6.15.17.1//NONSGML v1.0//EN
CALSCALE:GREGORIAN
METHOD:PUBLISH
X-ORIGINAL-URL:https://www.nkanalitik.com
X-WR-CALDESC:NK Araştırma için etkinlikler
REFRESH-INTERVAL;VALUE=DURATION:PT1H
X-Robots-Tag:noindex
X-PUBLISHED-TTL:PT1H
BEGIN:VTIMEZONE
TZID:Europe/Moscow
BEGIN:STANDARD
TZOFFSETFROM:+0300
TZOFFSETTO:+0300
TZNAME:MSK
DTSTART:20240101T000000
END:STANDARD
END:VTIMEZONE
BEGIN:VEVENT
DTSTART;TZID=Europe/Moscow:20251109T203000
DTEND;TZID=Europe/Moscow:20251109T213000
DTSTAMP:20260422T102118
CREATED:20251007T135835Z
LAST-MODIFIED:20251007T135835Z
UID:8344-1762720200-1762723800@www.nkanalitik.com
SUMMARY:Durum Çalışması: Bağlam İçinde Derinlemesine Anlama
DESCRIPTION:Durum çalışması\, belirli bir olguyu kendi bağlamı içinde\, çok yönlü biçimde ele alan kapsamlı bir yaklaşımdır. Bu oturumda bir durumun nasıl seçileceğini\, sınırlarının nasıl çizileceğini ve analiz sürecinde bağlamsal faktörlerin nasıl dikkate alınacağını tartışacağız. \nKatılımcılar\, durum çalışmasının esnek yapısını\, veri çeşitliliğiyle sağladığı zenginliği ve tekil bir olgunun bütüncül analiziyle ulaşılan derin kavrayışı deneyimleyecekler. Amaç\, sosyal gerçekliği anlamada “bağlamın sesi”ni duymaktır.
URL:https://www.nkanalitik.com/etkinlik_detay/durum-calismasi-baglam-icinde-derinlemesine-anlama/
LOCATION:Çevrimiçi
CATEGORIES:Nitel Analiz Eğitimi
ATTACH;FMTTYPE=image/png:https://www.nkanalitik.com/wp-content/uploads/2025/10/4-Durum-Calismasi-Baglam-Icinde-Derinlemesine-Anlama.png
END:VEVENT
END:VCALENDAR