BEGIN:VCALENDAR
VERSION:2.0
PRODID:-//NK Araştırma - ECPv6.15.17.1//NONSGML v1.0//EN
CALSCALE:GREGORIAN
METHOD:PUBLISH
X-WR-CALNAME:NK Araştırma
X-ORIGINAL-URL:https://www.nkanalitik.com
X-WR-CALDESC:NK Araştırma için etkinlikler
REFRESH-INTERVAL;VALUE=DURATION:PT1H
X-Robots-Tag:noindex
X-PUBLISHED-TTL:PT1H
BEGIN:VTIMEZONE
TZID:Europe/Moscow
BEGIN:STANDARD
TZOFFSETFROM:+0300
TZOFFSETTO:+0300
TZNAME:MSK
DTSTART:20240101T000000
END:STANDARD
END:VTIMEZONE
BEGIN:VEVENT
DTSTART;TZID=Europe/Moscow:20251116T203000
DTEND;TZID=Europe/Moscow:20251116T213000
DTSTAMP:20260421T212424
CREATED:20251007T140240Z
LAST-MODIFIED:20251109T212622Z
UID:8347-1763325000-1763328600@www.nkanalitik.com
SUMMARY:Anlatı Araştırması: İnsan Deneyimini Hikâyelerle Çözümlemek
DESCRIPTION:İnsan yaşamı hikâyelerle anlam kazanır. Bu oturumda bireylerin yaşam anlatılarını çözümlemenin yollarını\, hikâyelerin toplumsal bağlamla nasıl örüldüğünü ve anlatının araştırmacı tarafından nasıl yorumlanabileceğini ele alacağız. \nKatılımcılar\, anlatı araştırmasının yalnızca bir veri toplama biçimi değil\, aynı zamanda bir düşünme ve yorumlama alanı olduğunu fark edeceklerdir. Hikâyeler aracılığıyla insan deneyiminin derin anlam katmanlarını okumayı öğrenmek\, bu oturumun temel kazanımı olacaktır. \n  \nHEMEN KAYDOL! \n\n\n	Büyük Dil Modelleri Nitel Araştırmada Ne Vadediyor?5 üzerinden 5.00 oy aldı\n	₺0\,00
URL:https://www.nkanalitik.com/etkinlik_detay/anlati-arastirmasi-insan-deneyimini-hikayelerle-cozumlemek/
LOCATION:Çevrimiçi
CATEGORIES:Nitel Analiz Eğitimi
ATTACH;FMTTYPE=image/png:https://www.nkanalitik.com/wp-content/uploads/2025/10/5-Anlati-Arastirmasi-Insan-Deneyimini-Hikayelerle-Cozumlemek.png
END:VEVENT
END:VCALENDAR