BEGIN:VCALENDAR
VERSION:2.0
PRODID:-//NK Araştırma - ECPv6.15.17.1//NONSGML v1.0//EN
CALSCALE:GREGORIAN
METHOD:PUBLISH
X-WR-CALNAME:NK Araştırma
X-ORIGINAL-URL:https://www.nkanalitik.com
X-WR-CALDESC:NK Araştırma için etkinlikler
REFRESH-INTERVAL;VALUE=DURATION:PT1H
X-Robots-Tag:noindex
X-PUBLISHED-TTL:PT1H
BEGIN:VTIMEZONE
TZID:Europe/Moscow
BEGIN:STANDARD
TZOFFSETFROM:+0300
TZOFFSETTO:+0300
TZNAME:MSK
DTSTART:20240101T000000
END:STANDARD
END:VTIMEZONE
BEGIN:VEVENT
DTSTART;TZID=Europe/Moscow:20251123T203000
DTEND;TZID=Europe/Moscow:20251123T213000
DTSTAMP:20260421T084723
CREATED:20251007T143931Z
LAST-MODIFIED:20251119T080632Z
UID:8350-1763929800-1763933400@www.nkanalitik.com
SUMMARY:Etnografi: Kültürün Kalbine Girmek
DESCRIPTION:Etnografi\, kültürü içeriden anlamanın sanatı ve bilimselliğidir. Bu oturumda araştırmacının alana girişi\, katılımcı gözlem teknikleri\, alan notları ve kültürel yorumlama süreçleri üzerinde duracağız. \nKatılımcılar\, bir topluluğun gündelik yaşamına duyarlılıkla yaklaşmayı\, gözlem ve katılım arasında denge kurmayı öğreneceklerdir. Kültürel pratiklerin içinde anlamın nasıl üretildiğini fark etmek\, araştırmacının sahadaki etik ve analitik farkındalığını güçlendirecektir. \nHEMEN KAYDOL! \n\n\n	Büyük Dil Modelleri Nitel Araştırmada Ne Vadediyor?5 üzerinden 5.00 oy aldı\n	₺0\,00
URL:https://www.nkanalitik.com/etkinlik_detay/etnografi-kulturun-kalbine-girmek/
LOCATION:Çevrimiçi
CATEGORIES:Nitel Analiz Eğitimi
ATTACH;FMTTYPE=image/png:https://www.nkanalitik.com/wp-content/uploads/2025/10/6-Etnografi-Kulturun-Kalbine-Girmek.png
END:VEVENT
END:VCALENDAR