BEGIN:VCALENDAR
VERSION:2.0
PRODID:-//NK Araştırma - ECPv6.15.17.1//NONSGML v1.0//EN
CALSCALE:GREGORIAN
METHOD:PUBLISH
X-ORIGINAL-URL:https://www.nkanalitik.com
X-WR-CALDESC:NK Araştırma için etkinlikler
REFRESH-INTERVAL;VALUE=DURATION:PT1H
X-Robots-Tag:noindex
X-PUBLISHED-TTL:PT1H
BEGIN:VTIMEZONE
TZID:Europe/Moscow
BEGIN:STANDARD
TZOFFSETFROM:+0300
TZOFFSETTO:+0300
TZNAME:MSK
DTSTART:20240101T000000
END:STANDARD
END:VTIMEZONE
BEGIN:VEVENT
DTSTART;TZID=Europe/Moscow:20251125T203000
DTEND;TZID=Europe/Moscow:20251125T213000
DTSTAMP:20260421T043606
CREATED:20251007T152817Z
LAST-MODIFIED:20251119T080840Z
UID:8385-1764102600-1764106200@www.nkanalitik.com
SUMMARY:Tematik Analiz: Anlam Dünyalarını Keşfetmek
DESCRIPTION:Braun & Clarke’ın geliştirdiği tematik analiz\, nitel veriden anlam üretmenin en sistematik yollarından biridir. Bu oturumda veriden tema çıkarmanın ardındaki karar süreçleri\, tema tanımlama ilkeleri ve yorumlama düzeyleri ele alınacaktır. \nKatılımcılar\, altı aşamalı tematik analiz sürecini –veriye aşinalıktan temaların raporlanmasına kadar– örneklerle takip edeceklerdir. Temaların yalnızca “tekrar eden kalıplar” değil\, bir anlam dünyasının yapıtaşları olduğu vurgulanacaktır. \nUygulama bölümünde katılımcılar\, Quali yazılımı üzerinde tematik analiz sürecini birebir yürütecek\, kodları temalara dönüştürecek ve sonuçlarını görselleştireceklerdir. Qualli’nin kurulu olması\, bu uygulamayı etkin biçimde takip etmek için gereklidir. Quali yazılımını bilgisayarınıza indirmek ve kurmak için https://www.veriveren.net/ web sayfasını ziyaret ediniz. \nHEMEN KAYDOL! \n\n 
URL:https://www.nkanalitik.com/etkinlik_detay/tematik-analiz-anlam-dunyalarini-kesfetmek/
LOCATION:Çevrimiçi
CATEGORIES:Nitel Analiz Eğitimi
ATTACH;FMTTYPE=image/png:https://www.nkanalitik.com/wp-content/uploads/2025/10/16-Tematik-Analiz-Anlam-Dunyalarini-Kesfetmek.png
END:VEVENT
END:VCALENDAR