BEGIN:VCALENDAR
VERSION:2.0
PRODID:-//NK Araştırma - ECPv6.15.17.1//NONSGML v1.0//EN
CALSCALE:GREGORIAN
METHOD:PUBLISH
X-ORIGINAL-URL:https://www.nkanalitik.com
X-WR-CALDESC:NK Araştırma için etkinlikler
REFRESH-INTERVAL;VALUE=DURATION:PT1H
X-Robots-Tag:noindex
X-PUBLISHED-TTL:PT1H
BEGIN:VTIMEZONE
TZID:Europe/Moscow
BEGIN:STANDARD
TZOFFSETFROM:+0300
TZOFFSETTO:+0300
TZNAME:MSK
DTSTART:20250101T000000
END:STANDARD
END:VTIMEZONE
BEGIN:VEVENT
DTSTART;TZID=Europe/Moscow:20260324T203000
DTEND;TZID=Europe/Moscow:20260324T223000
DTSTAMP:20260419T090357
CREATED:20260322T150458Z
LAST-MODIFIED:20260322T151442Z
UID:10758-1774384200-1774391400@www.nkanalitik.com
SUMMARY:Academetrica Quali ile Yapay Zeka Kodlama
DESCRIPTION:Araştırmalarınızda geleneksel yöntemleri geride bırakıp yeni nesil araçlarla tanışmanın tam zamanı! Nitel veri analizi süreçlerinizi hızlandırmak\, verilerinizi daha derinlemesine ve kolayca analiz etmek için sizi “Academetrica Quali\, Nitel Araştırmalarda Yapay Zeka ile Kodlama” webinarımıza davet ediyoruz. \nNitel araştırmalar hiç bu kadar kolay olmamıştı! \nBu ücretsiz webinarda\, Academetrica Quali yazılımının sunduğu yenilikçi arayüzü ve güçlü analiz araçlarını uygulamalı olarak keşfedeceksiniz. \nKatılımcılara Özel Ücretsiz Kullanım Hakkı Fırsatı! \nWebinarımıza katılan herkese\, araştırmalarında kullanabilmeleri için QUALI Temel Kullanım Hakkı tanımlanacaktır. Sınırlı kontenjanla gerçekleştirilecek bu özel etkinliği kaçırmayın. \nKontenjanımız sınırlıdır. Nitel veri analizi becerilerinizi bir üst seviyeye taşımak ve ücretsiz Quali kullanım hakkına sahip olmak için yerinizi hemen ayırtın! \nACADEMETRICA QUALI yazılımını bilgisayarınıza indirmek ve kurmak için https://academetrica.com/ web sayfasını ziyaret ediniz. \nHEMEN KAYDOL! \n\n\n	Büyük Dil Modelleri Nitel Araştırmada Ne Vadediyor?5 üzerinden 5.00 oy aldı\n	₺0\,00
URL:https://www.nkanalitik.com/etkinlik_detay/academetrica-quali-ile-yapay-zeka-ile-kodlama-2/
LOCATION:Çevrimiçi
CATEGORIES:Nitel Analiz Eğitimi
ATTACH;FMTTYPE=image/jpeg:https://www.nkanalitik.com/wp-content/uploads/2024/09/web-sayfasi-afis-sablonu1.jpg
END:VEVENT
END:VCALENDAR